BEGIN:VCALENDAR
VERSION:2.0
PRODID:-//ParkinsonVRmove - ECPv6.15.20//NONSGML v1.0//EN
CALSCALE:GREGORIAN
METHOD:PUBLISH
X-WR-CALNAME:ParkinsonVRmove
X-ORIGINAL-URL:https://parkinsonvrmove.ch
X-WR-CALDESC:Évènements pour ParkinsonVRmove
REFRESH-INTERVAL;VALUE=DURATION:PT1H
X-Robots-Tag:noindex
X-PUBLISHED-TTL:PT1H
BEGIN:VTIMEZONE
TZID:Europe/Paris
BEGIN:DAYLIGHT
TZOFFSETFROM:+0100
TZOFFSETTO:+0200
TZNAME:CEST
DTSTART:20290325T010000
END:DAYLIGHT
BEGIN:STANDARD
TZOFFSETFROM:+0200
TZOFFSETTO:+0100
TZNAME:CET
DTSTART:20291028T010000
END:STANDARD
BEGIN:DAYLIGHT
TZOFFSETFROM:+0100
TZOFFSETTO:+0200
TZNAME:CEST
DTSTART:20300331T010000
END:DAYLIGHT
BEGIN:STANDARD
TZOFFSETFROM:+0200
TZOFFSETTO:+0100
TZNAME:CET
DTSTART:20301027T010000
END:STANDARD
BEGIN:DAYLIGHT
TZOFFSETFROM:+0100
TZOFFSETTO:+0200
TZNAME:CEST
DTSTART:20310330T010000
END:DAYLIGHT
BEGIN:STANDARD
TZOFFSETFROM:+0200
TZOFFSETTO:+0100
TZNAME:CET
DTSTART:20311026T010000
END:STANDARD
END:VTIMEZONE
BEGIN:VEVENT
DTSTART;TZID=Europe/Paris:20300403T083000
DTEND;TZID=Europe/Paris:20300403T103000
DTSTAMP:20260424T211449
CREATED:20260316T135255Z
LAST-MODIFIED:20260326T083928Z
UID:10000467-1901435400-1901442600@parkinsonvrmove.ch
SUMMARY:ParkinsonVRMove
DESCRIPTION:Espace de quartier Pâquis
URL:https://parkinsonvrmove.ch/event/parkinsonvrmove/2030-04-03/
LOCATION:Espace de Quartier Pâquis\, rue Jean-Charles-Amat 6\, Geneve\, 1200\, Switzerland
CATEGORIES:VR
ATTACH;FMTTYPE=image/png:https://parkinsonvrmove.ch/wp-content/uploads/2026/03/cropped-cropped-250713-Favicon-96x96-1-1.png
END:VEVENT
BEGIN:VEVENT
DTSTART;TZID=Europe/Paris:20300404T100000
DTEND;TZID=Europe/Paris:20300404T170000
DTSTAMP:20260424T211449
CREATED:20260316T140035Z
LAST-MODIFIED:20260317T135542Z
UID:10000207-1901527200-1901552400@parkinsonvrmove.ch
SUMMARY:HUG  journée Parkinson
DESCRIPTION:À l’occasion de la Journée mondiale de la maladie de Parkinson\, le Service de neurologie des HUG vous convie\, en collaboration avec des personnes touchées par la maladie\, à une journée de conférences\, témoignages et ateliers.
URL:https://parkinsonvrmove.ch/event/hug-journee-parkinson/2030-04-04/
LOCATION:hug\, auditoire Marcel Jenny
CATEGORIES:Evenement
ATTACH;FMTTYPE=image/png:https://parkinsonvrmove.ch/wp-content/uploads/2026/03/csm_HUG_2026_96b3f4914b.png
END:VEVENT
BEGIN:VEVENT
DTSTART;TZID=Europe/Paris:20300404T113000
DTEND;TZID=Europe/Paris:20300404T123000
DTSTAMP:20260424T211449
CREATED:20260326T083136Z
LAST-MODIFIED:20260326T083136Z
UID:10000728-1901532600-1901536200@parkinsonvrmove.ch
SUMMARY:Ping Pong CSS
DESCRIPTION:Au club CSS Chênois \, réservé aux membres
URL:https://parkinsonvrmove.ch/event/ping-pong-css-2/2030-04-04/
LOCATION:CTT UGS-Chenois\, Rte de Frontenex 68\,\, Genève\, 1207\, Switzerland
CATEGORIES:Pingpong
ATTACH;FMTTYPE=image/jpeg:https://parkinsonvrmove.ch/wp-content/uploads/2026/03/250725-Tennis-Table-for-others-1024x683-1.jpg
END:VEVENT
BEGIN:VEVENT
DTSTART;TZID=Europe/Paris:20300410T083000
DTEND;TZID=Europe/Paris:20300410T103000
DTSTAMP:20260424T211449
CREATED:20260316T135255Z
LAST-MODIFIED:20260326T083928Z
UID:10000468-1902040200-1902047400@parkinsonvrmove.ch
SUMMARY:ParkinsonVRMove
DESCRIPTION:Espace de quartier Pâquis
URL:https://parkinsonvrmove.ch/event/parkinsonvrmove/2030-04-10/
LOCATION:Espace de Quartier Pâquis\, rue Jean-Charles-Amat 6\, Geneve\, 1200\, Switzerland
CATEGORIES:VR
ATTACH;FMTTYPE=image/png:https://parkinsonvrmove.ch/wp-content/uploads/2026/03/cropped-cropped-250713-Favicon-96x96-1-1.png
END:VEVENT
BEGIN:VEVENT
DTSTART;TZID=Europe/Paris:20300411T100000
DTEND;TZID=Europe/Paris:20300411T170000
DTSTAMP:20260424T211449
CREATED:20260316T140035Z
LAST-MODIFIED:20260317T135542Z
UID:10000208-1902132000-1902157200@parkinsonvrmove.ch
SUMMARY:HUG  journée Parkinson
DESCRIPTION:À l’occasion de la Journée mondiale de la maladie de Parkinson\, le Service de neurologie des HUG vous convie\, en collaboration avec des personnes touchées par la maladie\, à une journée de conférences\, témoignages et ateliers.
URL:https://parkinsonvrmove.ch/event/hug-journee-parkinson/2030-04-11/
LOCATION:hug\, auditoire Marcel Jenny
CATEGORIES:Evenement
ATTACH;FMTTYPE=image/png:https://parkinsonvrmove.ch/wp-content/uploads/2026/03/csm_HUG_2026_96b3f4914b.png
END:VEVENT
BEGIN:VEVENT
DTSTART;TZID=Europe/Paris:20300411T113000
DTEND;TZID=Europe/Paris:20300411T123000
DTSTAMP:20260424T211449
CREATED:20260326T083136Z
LAST-MODIFIED:20260326T083136Z
UID:10000729-1902137400-1902141000@parkinsonvrmove.ch
SUMMARY:Ping Pong CSS
DESCRIPTION:Au club CSS Chênois \, réservé aux membres
URL:https://parkinsonvrmove.ch/event/ping-pong-css-2/2030-04-11/
LOCATION:CTT UGS-Chenois\, Rte de Frontenex 68\,\, Genève\, 1207\, Switzerland
CATEGORIES:Pingpong
ATTACH;FMTTYPE=image/jpeg:https://parkinsonvrmove.ch/wp-content/uploads/2026/03/250725-Tennis-Table-for-others-1024x683-1.jpg
END:VEVENT
BEGIN:VEVENT
DTSTART;TZID=Europe/Paris:20300417T083000
DTEND;TZID=Europe/Paris:20300417T103000
DTSTAMP:20260424T211449
CREATED:20260316T135255Z
LAST-MODIFIED:20260326T083928Z
UID:10000469-1902645000-1902652200@parkinsonvrmove.ch
SUMMARY:ParkinsonVRMove
DESCRIPTION:Espace de quartier Pâquis
URL:https://parkinsonvrmove.ch/event/parkinsonvrmove/2030-04-17/
LOCATION:Espace de Quartier Pâquis\, rue Jean-Charles-Amat 6\, Geneve\, 1200\, Switzerland
CATEGORIES:VR
ATTACH;FMTTYPE=image/png:https://parkinsonvrmove.ch/wp-content/uploads/2026/03/cropped-cropped-250713-Favicon-96x96-1-1.png
END:VEVENT
BEGIN:VEVENT
DTSTART;TZID=Europe/Paris:20300418T100000
DTEND;TZID=Europe/Paris:20300418T170000
DTSTAMP:20260424T211449
CREATED:20260316T140035Z
LAST-MODIFIED:20260317T135542Z
UID:10000209-1902736800-1902762000@parkinsonvrmove.ch
SUMMARY:HUG  journée Parkinson
DESCRIPTION:À l’occasion de la Journée mondiale de la maladie de Parkinson\, le Service de neurologie des HUG vous convie\, en collaboration avec des personnes touchées par la maladie\, à une journée de conférences\, témoignages et ateliers.
URL:https://parkinsonvrmove.ch/event/hug-journee-parkinson/2030-04-18/
LOCATION:hug\, auditoire Marcel Jenny
CATEGORIES:Evenement
ATTACH;FMTTYPE=image/png:https://parkinsonvrmove.ch/wp-content/uploads/2026/03/csm_HUG_2026_96b3f4914b.png
END:VEVENT
BEGIN:VEVENT
DTSTART;TZID=Europe/Paris:20300418T113000
DTEND;TZID=Europe/Paris:20300418T123000
DTSTAMP:20260424T211449
CREATED:20260326T083136Z
LAST-MODIFIED:20260326T083136Z
UID:10000730-1902742200-1902745800@parkinsonvrmove.ch
SUMMARY:Ping Pong CSS
DESCRIPTION:Au club CSS Chênois \, réservé aux membres
URL:https://parkinsonvrmove.ch/event/ping-pong-css-2/2030-04-18/
LOCATION:CTT UGS-Chenois\, Rte de Frontenex 68\,\, Genève\, 1207\, Switzerland
CATEGORIES:Pingpong
ATTACH;FMTTYPE=image/jpeg:https://parkinsonvrmove.ch/wp-content/uploads/2026/03/250725-Tennis-Table-for-others-1024x683-1.jpg
END:VEVENT
BEGIN:VEVENT
DTSTART;TZID=Europe/Paris:20300424T083000
DTEND;TZID=Europe/Paris:20300424T103000
DTSTAMP:20260424T211449
CREATED:20260316T135255Z
LAST-MODIFIED:20260326T083928Z
UID:10000470-1903249800-1903257000@parkinsonvrmove.ch
SUMMARY:ParkinsonVRMove
DESCRIPTION:Espace de quartier Pâquis
URL:https://parkinsonvrmove.ch/event/parkinsonvrmove/2030-04-24/
LOCATION:Espace de Quartier Pâquis\, rue Jean-Charles-Amat 6\, Geneve\, 1200\, Switzerland
CATEGORIES:VR
ATTACH;FMTTYPE=image/png:https://parkinsonvrmove.ch/wp-content/uploads/2026/03/cropped-cropped-250713-Favicon-96x96-1-1.png
END:VEVENT
BEGIN:VEVENT
DTSTART;TZID=Europe/Paris:20300425T100000
DTEND;TZID=Europe/Paris:20300425T170000
DTSTAMP:20260424T211449
CREATED:20260316T140035Z
LAST-MODIFIED:20260317T135542Z
UID:10000210-1903341600-1903366800@parkinsonvrmove.ch
SUMMARY:HUG  journée Parkinson
DESCRIPTION:À l’occasion de la Journée mondiale de la maladie de Parkinson\, le Service de neurologie des HUG vous convie\, en collaboration avec des personnes touchées par la maladie\, à une journée de conférences\, témoignages et ateliers.
URL:https://parkinsonvrmove.ch/event/hug-journee-parkinson/2030-04-25/
LOCATION:hug\, auditoire Marcel Jenny
CATEGORIES:Evenement
ATTACH;FMTTYPE=image/png:https://parkinsonvrmove.ch/wp-content/uploads/2026/03/csm_HUG_2026_96b3f4914b.png
END:VEVENT
BEGIN:VEVENT
DTSTART;TZID=Europe/Paris:20300425T113000
DTEND;TZID=Europe/Paris:20300425T123000
DTSTAMP:20260424T211449
CREATED:20260326T083136Z
LAST-MODIFIED:20260326T083136Z
UID:10000731-1903347000-1903350600@parkinsonvrmove.ch
SUMMARY:Ping Pong CSS
DESCRIPTION:Au club CSS Chênois \, réservé aux membres
URL:https://parkinsonvrmove.ch/event/ping-pong-css-2/2030-04-25/
LOCATION:CTT UGS-Chenois\, Rte de Frontenex 68\,\, Genève\, 1207\, Switzerland
CATEGORIES:Pingpong
ATTACH;FMTTYPE=image/jpeg:https://parkinsonvrmove.ch/wp-content/uploads/2026/03/250725-Tennis-Table-for-others-1024x683-1.jpg
END:VEVENT
END:VCALENDAR