BEGIN:VCALENDAR
VERSION:2.0
PRODID:-//ParkinsonVRmove - ECPv6.15.20//NONSGML v1.0//EN
CALSCALE:GREGORIAN
METHOD:PUBLISH
X-ORIGINAL-URL:https://parkinsonvrmove.ch
X-WR-CALDESC:Évènements pour ParkinsonVRmove
REFRESH-INTERVAL;VALUE=DURATION:PT1H
X-Robots-Tag:noindex
X-PUBLISHED-TTL:PT1H
BEGIN:VTIMEZONE
TZID:Europe/Paris
BEGIN:DAYLIGHT
TZOFFSETFROM:+0100
TZOFFSETTO:+0200
TZNAME:CEST
DTSTART:20280326T010000
END:DAYLIGHT
BEGIN:STANDARD
TZOFFSETFROM:+0200
TZOFFSETTO:+0100
TZNAME:CET
DTSTART:20281029T010000
END:STANDARD
BEGIN:DAYLIGHT
TZOFFSETFROM:+0100
TZOFFSETTO:+0200
TZNAME:CEST
DTSTART:20290325T010000
END:DAYLIGHT
BEGIN:STANDARD
TZOFFSETFROM:+0200
TZOFFSETTO:+0100
TZNAME:CET
DTSTART:20291028T010000
END:STANDARD
BEGIN:DAYLIGHT
TZOFFSETFROM:+0100
TZOFFSETTO:+0200
TZNAME:CEST
DTSTART:20300331T010000
END:DAYLIGHT
BEGIN:STANDARD
TZOFFSETFROM:+0200
TZOFFSETTO:+0100
TZNAME:CET
DTSTART:20301027T010000
END:STANDARD
END:VTIMEZONE
BEGIN:VEVENT
DTSTART;TZID=Europe/Paris:20290801T083000
DTEND;TZID=Europe/Paris:20290801T103000
DTSTAMP:20260424T052523
CREATED:20260316T135255Z
LAST-MODIFIED:20260326T083928Z
UID:10000432-1880267400-1880274600@parkinsonvrmove.ch
SUMMARY:ParkinsonVRMove
DESCRIPTION:Espace de quartier Pâquis
URL:https://parkinsonvrmove.ch/event/parkinsonvrmove/2029-08-01/
LOCATION:Espace de Quartier Pâquis\, rue Jean-Charles-Amat 6\, Geneve\, 1200\, Switzerland
CATEGORIES:VR
ATTACH;FMTTYPE=image/png:https://parkinsonvrmove.ch/wp-content/uploads/2026/03/cropped-cropped-250713-Favicon-96x96-1-1.png
END:VEVENT
BEGIN:VEVENT
DTSTART;TZID=Europe/Paris:20290802T100000
DTEND;TZID=Europe/Paris:20290802T170000
DTSTAMP:20260424T052523
CREATED:20260316T140035Z
LAST-MODIFIED:20260317T135542Z
UID:10000172-1880359200-1880384400@parkinsonvrmove.ch
SUMMARY:HUG  journée Parkinson
DESCRIPTION:À l’occasion de la Journée mondiale de la maladie de Parkinson\, le Service de neurologie des HUG vous convie\, en collaboration avec des personnes touchées par la maladie\, à une journée de conférences\, témoignages et ateliers.
URL:https://parkinsonvrmove.ch/event/hug-journee-parkinson/2029-08-02/
LOCATION:hug\, auditoire Marcel Jenny
CATEGORIES:Evenement
ATTACH;FMTTYPE=image/png:https://parkinsonvrmove.ch/wp-content/uploads/2026/03/csm_HUG_2026_96b3f4914b.png
END:VEVENT
BEGIN:VEVENT
DTSTART;TZID=Europe/Paris:20290802T113000
DTEND;TZID=Europe/Paris:20290802T123000
DTSTAMP:20260424T052523
CREATED:20260326T083136Z
LAST-MODIFIED:20260326T083136Z
UID:10000693-1880364600-1880368200@parkinsonvrmove.ch
SUMMARY:Ping Pong CSS
DESCRIPTION:Au club CSS Chênois \, réservé aux membres
URL:https://parkinsonvrmove.ch/event/ping-pong-css-2/2029-08-02/
LOCATION:CTT UGS-Chenois\, Rte de Frontenex 68\,\, Genève\, 1207\, Switzerland
CATEGORIES:Pingpong
ATTACH;FMTTYPE=image/jpeg:https://parkinsonvrmove.ch/wp-content/uploads/2026/03/250725-Tennis-Table-for-others-1024x683-1.jpg
END:VEVENT
BEGIN:VEVENT
DTSTART;TZID=Europe/Paris:20290808T083000
DTEND;TZID=Europe/Paris:20290808T103000
DTSTAMP:20260424T052523
CREATED:20260316T135255Z
LAST-MODIFIED:20260326T083928Z
UID:10000433-1880872200-1880879400@parkinsonvrmove.ch
SUMMARY:ParkinsonVRMove
DESCRIPTION:Espace de quartier Pâquis
URL:https://parkinsonvrmove.ch/event/parkinsonvrmove/2029-08-08/
LOCATION:Espace de Quartier Pâquis\, rue Jean-Charles-Amat 6\, Geneve\, 1200\, Switzerland
CATEGORIES:VR
ATTACH;FMTTYPE=image/png:https://parkinsonvrmove.ch/wp-content/uploads/2026/03/cropped-cropped-250713-Favicon-96x96-1-1.png
END:VEVENT
BEGIN:VEVENT
DTSTART;TZID=Europe/Paris:20290809T100000
DTEND;TZID=Europe/Paris:20290809T170000
DTSTAMP:20260424T052523
CREATED:20260316T140035Z
LAST-MODIFIED:20260317T135542Z
UID:10000173-1880964000-1880989200@parkinsonvrmove.ch
SUMMARY:HUG  journée Parkinson
DESCRIPTION:À l’occasion de la Journée mondiale de la maladie de Parkinson\, le Service de neurologie des HUG vous convie\, en collaboration avec des personnes touchées par la maladie\, à une journée de conférences\, témoignages et ateliers.
URL:https://parkinsonvrmove.ch/event/hug-journee-parkinson/2029-08-09/
LOCATION:hug\, auditoire Marcel Jenny
CATEGORIES:Evenement
ATTACH;FMTTYPE=image/png:https://parkinsonvrmove.ch/wp-content/uploads/2026/03/csm_HUG_2026_96b3f4914b.png
END:VEVENT
BEGIN:VEVENT
DTSTART;TZID=Europe/Paris:20290809T113000
DTEND;TZID=Europe/Paris:20290809T123000
DTSTAMP:20260424T052523
CREATED:20260326T083136Z
LAST-MODIFIED:20260326T083136Z
UID:10000694-1880969400-1880973000@parkinsonvrmove.ch
SUMMARY:Ping Pong CSS
DESCRIPTION:Au club CSS Chênois \, réservé aux membres
URL:https://parkinsonvrmove.ch/event/ping-pong-css-2/2029-08-09/
LOCATION:CTT UGS-Chenois\, Rte de Frontenex 68\,\, Genève\, 1207\, Switzerland
CATEGORIES:Pingpong
ATTACH;FMTTYPE=image/jpeg:https://parkinsonvrmove.ch/wp-content/uploads/2026/03/250725-Tennis-Table-for-others-1024x683-1.jpg
END:VEVENT
BEGIN:VEVENT
DTSTART;TZID=Europe/Paris:20290815T083000
DTEND;TZID=Europe/Paris:20290815T103000
DTSTAMP:20260424T052523
CREATED:20260316T135255Z
LAST-MODIFIED:20260326T083928Z
UID:10000434-1881477000-1881484200@parkinsonvrmove.ch
SUMMARY:ParkinsonVRMove
DESCRIPTION:Espace de quartier Pâquis
URL:https://parkinsonvrmove.ch/event/parkinsonvrmove/2029-08-15/
LOCATION:Espace de Quartier Pâquis\, rue Jean-Charles-Amat 6\, Geneve\, 1200\, Switzerland
CATEGORIES:VR
ATTACH;FMTTYPE=image/png:https://parkinsonvrmove.ch/wp-content/uploads/2026/03/cropped-cropped-250713-Favicon-96x96-1-1.png
END:VEVENT
BEGIN:VEVENT
DTSTART;TZID=Europe/Paris:20290816T100000
DTEND;TZID=Europe/Paris:20290816T170000
DTSTAMP:20260424T052523
CREATED:20260316T140035Z
LAST-MODIFIED:20260317T135542Z
UID:10000174-1881568800-1881594000@parkinsonvrmove.ch
SUMMARY:HUG  journée Parkinson
DESCRIPTION:À l’occasion de la Journée mondiale de la maladie de Parkinson\, le Service de neurologie des HUG vous convie\, en collaboration avec des personnes touchées par la maladie\, à une journée de conférences\, témoignages et ateliers.
URL:https://parkinsonvrmove.ch/event/hug-journee-parkinson/2029-08-16/
LOCATION:hug\, auditoire Marcel Jenny
CATEGORIES:Evenement
ATTACH;FMTTYPE=image/png:https://parkinsonvrmove.ch/wp-content/uploads/2026/03/csm_HUG_2026_96b3f4914b.png
END:VEVENT
BEGIN:VEVENT
DTSTART;TZID=Europe/Paris:20290816T113000
DTEND;TZID=Europe/Paris:20290816T123000
DTSTAMP:20260424T052523
CREATED:20260326T083136Z
LAST-MODIFIED:20260326T083136Z
UID:10000695-1881574200-1881577800@parkinsonvrmove.ch
SUMMARY:Ping Pong CSS
DESCRIPTION:Au club CSS Chênois \, réservé aux membres
URL:https://parkinsonvrmove.ch/event/ping-pong-css-2/2029-08-16/
LOCATION:CTT UGS-Chenois\, Rte de Frontenex 68\,\, Genève\, 1207\, Switzerland
CATEGORIES:Pingpong
ATTACH;FMTTYPE=image/jpeg:https://parkinsonvrmove.ch/wp-content/uploads/2026/03/250725-Tennis-Table-for-others-1024x683-1.jpg
END:VEVENT
BEGIN:VEVENT
DTSTART;TZID=Europe/Paris:20290822T083000
DTEND;TZID=Europe/Paris:20290822T103000
DTSTAMP:20260424T052523
CREATED:20260316T135255Z
LAST-MODIFIED:20260326T083928Z
UID:10000435-1882081800-1882089000@parkinsonvrmove.ch
SUMMARY:ParkinsonVRMove
DESCRIPTION:Espace de quartier Pâquis
URL:https://parkinsonvrmove.ch/event/parkinsonvrmove/2029-08-22/
LOCATION:Espace de Quartier Pâquis\, rue Jean-Charles-Amat 6\, Geneve\, 1200\, Switzerland
CATEGORIES:VR
ATTACH;FMTTYPE=image/png:https://parkinsonvrmove.ch/wp-content/uploads/2026/03/cropped-cropped-250713-Favicon-96x96-1-1.png
END:VEVENT
BEGIN:VEVENT
DTSTART;TZID=Europe/Paris:20290823T100000
DTEND;TZID=Europe/Paris:20290823T170000
DTSTAMP:20260424T052523
CREATED:20260316T140035Z
LAST-MODIFIED:20260317T135542Z
UID:10000175-1882173600-1882198800@parkinsonvrmove.ch
SUMMARY:HUG  journée Parkinson
DESCRIPTION:À l’occasion de la Journée mondiale de la maladie de Parkinson\, le Service de neurologie des HUG vous convie\, en collaboration avec des personnes touchées par la maladie\, à une journée de conférences\, témoignages et ateliers.
URL:https://parkinsonvrmove.ch/event/hug-journee-parkinson/2029-08-23/
LOCATION:hug\, auditoire Marcel Jenny
CATEGORIES:Evenement
ATTACH;FMTTYPE=image/png:https://parkinsonvrmove.ch/wp-content/uploads/2026/03/csm_HUG_2026_96b3f4914b.png
END:VEVENT
BEGIN:VEVENT
DTSTART;TZID=Europe/Paris:20290823T113000
DTEND;TZID=Europe/Paris:20290823T123000
DTSTAMP:20260424T052523
CREATED:20260326T083136Z
LAST-MODIFIED:20260326T083136Z
UID:10000696-1882179000-1882182600@parkinsonvrmove.ch
SUMMARY:Ping Pong CSS
DESCRIPTION:Au club CSS Chênois \, réservé aux membres
URL:https://parkinsonvrmove.ch/event/ping-pong-css-2/2029-08-23/
LOCATION:CTT UGS-Chenois\, Rte de Frontenex 68\,\, Genève\, 1207\, Switzerland
CATEGORIES:Pingpong
ATTACH;FMTTYPE=image/jpeg:https://parkinsonvrmove.ch/wp-content/uploads/2026/03/250725-Tennis-Table-for-others-1024x683-1.jpg
END:VEVENT
BEGIN:VEVENT
DTSTART;TZID=Europe/Paris:20290829T083000
DTEND;TZID=Europe/Paris:20290829T103000
DTSTAMP:20260424T052523
CREATED:20260316T135255Z
LAST-MODIFIED:20260326T083928Z
UID:10000436-1882686600-1882693800@parkinsonvrmove.ch
SUMMARY:ParkinsonVRMove
DESCRIPTION:Espace de quartier Pâquis
URL:https://parkinsonvrmove.ch/event/parkinsonvrmove/2029-08-29/
LOCATION:Espace de Quartier Pâquis\, rue Jean-Charles-Amat 6\, Geneve\, 1200\, Switzerland
CATEGORIES:VR
ATTACH;FMTTYPE=image/png:https://parkinsonvrmove.ch/wp-content/uploads/2026/03/cropped-cropped-250713-Favicon-96x96-1-1.png
END:VEVENT
BEGIN:VEVENT
DTSTART;TZID=Europe/Paris:20290830T100000
DTEND;TZID=Europe/Paris:20290830T170000
DTSTAMP:20260424T052523
CREATED:20260316T140035Z
LAST-MODIFIED:20260317T135542Z
UID:10000176-1882778400-1882803600@parkinsonvrmove.ch
SUMMARY:HUG  journée Parkinson
DESCRIPTION:À l’occasion de la Journée mondiale de la maladie de Parkinson\, le Service de neurologie des HUG vous convie\, en collaboration avec des personnes touchées par la maladie\, à une journée de conférences\, témoignages et ateliers.
URL:https://parkinsonvrmove.ch/event/hug-journee-parkinson/2029-08-30/
LOCATION:hug\, auditoire Marcel Jenny
CATEGORIES:Evenement
ATTACH;FMTTYPE=image/png:https://parkinsonvrmove.ch/wp-content/uploads/2026/03/csm_HUG_2026_96b3f4914b.png
END:VEVENT
BEGIN:VEVENT
DTSTART;TZID=Europe/Paris:20290830T113000
DTEND;TZID=Europe/Paris:20290830T123000
DTSTAMP:20260424T052523
CREATED:20260326T083136Z
LAST-MODIFIED:20260326T083136Z
UID:10000697-1882783800-1882787400@parkinsonvrmove.ch
SUMMARY:Ping Pong CSS
DESCRIPTION:Au club CSS Chênois \, réservé aux membres
URL:https://parkinsonvrmove.ch/event/ping-pong-css-2/2029-08-30/
LOCATION:CTT UGS-Chenois\, Rte de Frontenex 68\,\, Genève\, 1207\, Switzerland
CATEGORIES:Pingpong
ATTACH;FMTTYPE=image/jpeg:https://parkinsonvrmove.ch/wp-content/uploads/2026/03/250725-Tennis-Table-for-others-1024x683-1.jpg
END:VEVENT
END:VCALENDAR