BEGIN:VCALENDAR
VERSION:2.0
PRODID:-//ParkinsonVRmove - ECPv6.15.20//NONSGML v1.0//EN
CALSCALE:GREGORIAN
METHOD:PUBLISH
X-ORIGINAL-URL:https://parkinsonvrmove.ch
X-WR-CALDESC:Évènements pour ParkinsonVRmove
REFRESH-INTERVAL;VALUE=DURATION:PT1H
X-Robots-Tag:noindex
X-PUBLISHED-TTL:PT1H
BEGIN:VTIMEZONE
TZID:Europe/Paris
BEGIN:DAYLIGHT
TZOFFSETFROM:+0100
TZOFFSETTO:+0200
TZNAME:CEST
DTSTART:20280326T010000
END:DAYLIGHT
BEGIN:STANDARD
TZOFFSETFROM:+0200
TZOFFSETTO:+0100
TZNAME:CET
DTSTART:20281029T010000
END:STANDARD
BEGIN:DAYLIGHT
TZOFFSETFROM:+0100
TZOFFSETTO:+0200
TZNAME:CEST
DTSTART:20290325T010000
END:DAYLIGHT
BEGIN:STANDARD
TZOFFSETFROM:+0200
TZOFFSETTO:+0100
TZNAME:CET
DTSTART:20291028T010000
END:STANDARD
BEGIN:DAYLIGHT
TZOFFSETFROM:+0100
TZOFFSETTO:+0200
TZNAME:CEST
DTSTART:20300331T010000
END:DAYLIGHT
BEGIN:STANDARD
TZOFFSETFROM:+0200
TZOFFSETTO:+0100
TZNAME:CET
DTSTART:20301027T010000
END:STANDARD
END:VTIMEZONE
BEGIN:VEVENT
DTSTART;TZID=Europe/Paris:20290103T083000
DTEND;TZID=Europe/Paris:20290103T103000
DTSTAMP:20260423T171548
CREATED:20260316T135255Z
LAST-MODIFIED:20260326T083928Z
UID:10000402-1862123400-1862130600@parkinsonvrmove.ch
SUMMARY:ParkinsonVRMove
DESCRIPTION:Espace de quartier Pâquis
URL:https://parkinsonvrmove.ch/event/parkinsonvrmove/2029-01-03/
LOCATION:Espace de Quartier Pâquis\, rue Jean-Charles-Amat 6\, Geneve\, 1200\, Switzerland
CATEGORIES:VR
ATTACH;FMTTYPE=image/png:https://parkinsonvrmove.ch/wp-content/uploads/2026/03/cropped-cropped-250713-Favicon-96x96-1-1.png
END:VEVENT
BEGIN:VEVENT
DTSTART;TZID=Europe/Paris:20290104T100000
DTEND;TZID=Europe/Paris:20290104T170000
DTSTAMP:20260423T171548
CREATED:20260316T140035Z
LAST-MODIFIED:20260317T135542Z
UID:10000142-1862215200-1862240400@parkinsonvrmove.ch
SUMMARY:HUG  journée Parkinson
DESCRIPTION:À l’occasion de la Journée mondiale de la maladie de Parkinson\, le Service de neurologie des HUG vous convie\, en collaboration avec des personnes touchées par la maladie\, à une journée de conférences\, témoignages et ateliers.
URL:https://parkinsonvrmove.ch/event/hug-journee-parkinson/2029-01-04/
LOCATION:hug\, auditoire Marcel Jenny
CATEGORIES:Evenement
ATTACH;FMTTYPE=image/png:https://parkinsonvrmove.ch/wp-content/uploads/2026/03/csm_HUG_2026_96b3f4914b.png
END:VEVENT
BEGIN:VEVENT
DTSTART;TZID=Europe/Paris:20290104T113000
DTEND;TZID=Europe/Paris:20290104T123000
DTSTAMP:20260423T171548
CREATED:20260326T083136Z
LAST-MODIFIED:20260326T083136Z
UID:10000663-1862220600-1862224200@parkinsonvrmove.ch
SUMMARY:Ping Pong CSS
DESCRIPTION:Au club CSS Chênois \, réservé aux membres
URL:https://parkinsonvrmove.ch/event/ping-pong-css-2/2029-01-04/
LOCATION:CTT UGS-Chenois\, Rte de Frontenex 68\,\, Genève\, 1207\, Switzerland
CATEGORIES:Pingpong
ATTACH;FMTTYPE=image/jpeg:https://parkinsonvrmove.ch/wp-content/uploads/2026/03/250725-Tennis-Table-for-others-1024x683-1.jpg
END:VEVENT
BEGIN:VEVENT
DTSTART;TZID=Europe/Paris:20290110T083000
DTEND;TZID=Europe/Paris:20290110T103000
DTSTAMP:20260423T171548
CREATED:20260316T135255Z
LAST-MODIFIED:20260326T083928Z
UID:10000403-1862728200-1862735400@parkinsonvrmove.ch
SUMMARY:ParkinsonVRMove
DESCRIPTION:Espace de quartier Pâquis
URL:https://parkinsonvrmove.ch/event/parkinsonvrmove/2029-01-10/
LOCATION:Espace de Quartier Pâquis\, rue Jean-Charles-Amat 6\, Geneve\, 1200\, Switzerland
CATEGORIES:VR
ATTACH;FMTTYPE=image/png:https://parkinsonvrmove.ch/wp-content/uploads/2026/03/cropped-cropped-250713-Favicon-96x96-1-1.png
END:VEVENT
BEGIN:VEVENT
DTSTART;TZID=Europe/Paris:20290111T100000
DTEND;TZID=Europe/Paris:20290111T170000
DTSTAMP:20260423T171548
CREATED:20260316T140035Z
LAST-MODIFIED:20260317T135542Z
UID:10000143-1862820000-1862845200@parkinsonvrmove.ch
SUMMARY:HUG  journée Parkinson
DESCRIPTION:À l’occasion de la Journée mondiale de la maladie de Parkinson\, le Service de neurologie des HUG vous convie\, en collaboration avec des personnes touchées par la maladie\, à une journée de conférences\, témoignages et ateliers.
URL:https://parkinsonvrmove.ch/event/hug-journee-parkinson/2029-01-11/
LOCATION:hug\, auditoire Marcel Jenny
CATEGORIES:Evenement
ATTACH;FMTTYPE=image/png:https://parkinsonvrmove.ch/wp-content/uploads/2026/03/csm_HUG_2026_96b3f4914b.png
END:VEVENT
BEGIN:VEVENT
DTSTART;TZID=Europe/Paris:20290111T113000
DTEND;TZID=Europe/Paris:20290111T123000
DTSTAMP:20260423T171548
CREATED:20260326T083136Z
LAST-MODIFIED:20260326T083136Z
UID:10000664-1862825400-1862829000@parkinsonvrmove.ch
SUMMARY:Ping Pong CSS
DESCRIPTION:Au club CSS Chênois \, réservé aux membres
URL:https://parkinsonvrmove.ch/event/ping-pong-css-2/2029-01-11/
LOCATION:CTT UGS-Chenois\, Rte de Frontenex 68\,\, Genève\, 1207\, Switzerland
CATEGORIES:Pingpong
ATTACH;FMTTYPE=image/jpeg:https://parkinsonvrmove.ch/wp-content/uploads/2026/03/250725-Tennis-Table-for-others-1024x683-1.jpg
END:VEVENT
BEGIN:VEVENT
DTSTART;TZID=Europe/Paris:20290117T083000
DTEND;TZID=Europe/Paris:20290117T103000
DTSTAMP:20260423T171548
CREATED:20260316T135255Z
LAST-MODIFIED:20260326T083928Z
UID:10000404-1863333000-1863340200@parkinsonvrmove.ch
SUMMARY:ParkinsonVRMove
DESCRIPTION:Espace de quartier Pâquis
URL:https://parkinsonvrmove.ch/event/parkinsonvrmove/2029-01-17/
LOCATION:Espace de Quartier Pâquis\, rue Jean-Charles-Amat 6\, Geneve\, 1200\, Switzerland
CATEGORIES:VR
ATTACH;FMTTYPE=image/png:https://parkinsonvrmove.ch/wp-content/uploads/2026/03/cropped-cropped-250713-Favicon-96x96-1-1.png
END:VEVENT
BEGIN:VEVENT
DTSTART;TZID=Europe/Paris:20290118T100000
DTEND;TZID=Europe/Paris:20290118T170000
DTSTAMP:20260423T171548
CREATED:20260316T140035Z
LAST-MODIFIED:20260317T135542Z
UID:10000144-1863424800-1863450000@parkinsonvrmove.ch
SUMMARY:HUG  journée Parkinson
DESCRIPTION:À l’occasion de la Journée mondiale de la maladie de Parkinson\, le Service de neurologie des HUG vous convie\, en collaboration avec des personnes touchées par la maladie\, à une journée de conférences\, témoignages et ateliers.
URL:https://parkinsonvrmove.ch/event/hug-journee-parkinson/2029-01-18/
LOCATION:hug\, auditoire Marcel Jenny
CATEGORIES:Evenement
ATTACH;FMTTYPE=image/png:https://parkinsonvrmove.ch/wp-content/uploads/2026/03/csm_HUG_2026_96b3f4914b.png
END:VEVENT
BEGIN:VEVENT
DTSTART;TZID=Europe/Paris:20290118T113000
DTEND;TZID=Europe/Paris:20290118T123000
DTSTAMP:20260423T171548
CREATED:20260326T083136Z
LAST-MODIFIED:20260326T083136Z
UID:10000665-1863430200-1863433800@parkinsonvrmove.ch
SUMMARY:Ping Pong CSS
DESCRIPTION:Au club CSS Chênois \, réservé aux membres
URL:https://parkinsonvrmove.ch/event/ping-pong-css-2/2029-01-18/
LOCATION:CTT UGS-Chenois\, Rte de Frontenex 68\,\, Genève\, 1207\, Switzerland
CATEGORIES:Pingpong
ATTACH;FMTTYPE=image/jpeg:https://parkinsonvrmove.ch/wp-content/uploads/2026/03/250725-Tennis-Table-for-others-1024x683-1.jpg
END:VEVENT
BEGIN:VEVENT
DTSTART;TZID=Europe/Paris:20290124T083000
DTEND;TZID=Europe/Paris:20290124T103000
DTSTAMP:20260423T171548
CREATED:20260316T135255Z
LAST-MODIFIED:20260326T083928Z
UID:10000405-1863937800-1863945000@parkinsonvrmove.ch
SUMMARY:ParkinsonVRMove
DESCRIPTION:Espace de quartier Pâquis
URL:https://parkinsonvrmove.ch/event/parkinsonvrmove/2029-01-24/
LOCATION:Espace de Quartier Pâquis\, rue Jean-Charles-Amat 6\, Geneve\, 1200\, Switzerland
CATEGORIES:VR
ATTACH;FMTTYPE=image/png:https://parkinsonvrmove.ch/wp-content/uploads/2026/03/cropped-cropped-250713-Favicon-96x96-1-1.png
END:VEVENT
BEGIN:VEVENT
DTSTART;TZID=Europe/Paris:20290125T100000
DTEND;TZID=Europe/Paris:20290125T170000
DTSTAMP:20260423T171548
CREATED:20260316T140035Z
LAST-MODIFIED:20260317T135542Z
UID:10000145-1864029600-1864054800@parkinsonvrmove.ch
SUMMARY:HUG  journée Parkinson
DESCRIPTION:À l’occasion de la Journée mondiale de la maladie de Parkinson\, le Service de neurologie des HUG vous convie\, en collaboration avec des personnes touchées par la maladie\, à une journée de conférences\, témoignages et ateliers.
URL:https://parkinsonvrmove.ch/event/hug-journee-parkinson/2029-01-25/
LOCATION:hug\, auditoire Marcel Jenny
CATEGORIES:Evenement
ATTACH;FMTTYPE=image/png:https://parkinsonvrmove.ch/wp-content/uploads/2026/03/csm_HUG_2026_96b3f4914b.png
END:VEVENT
BEGIN:VEVENT
DTSTART;TZID=Europe/Paris:20290125T113000
DTEND;TZID=Europe/Paris:20290125T123000
DTSTAMP:20260423T171548
CREATED:20260326T083136Z
LAST-MODIFIED:20260326T083136Z
UID:10000666-1864035000-1864038600@parkinsonvrmove.ch
SUMMARY:Ping Pong CSS
DESCRIPTION:Au club CSS Chênois \, réservé aux membres
URL:https://parkinsonvrmove.ch/event/ping-pong-css-2/2029-01-25/
LOCATION:CTT UGS-Chenois\, Rte de Frontenex 68\,\, Genève\, 1207\, Switzerland
CATEGORIES:Pingpong
ATTACH;FMTTYPE=image/jpeg:https://parkinsonvrmove.ch/wp-content/uploads/2026/03/250725-Tennis-Table-for-others-1024x683-1.jpg
END:VEVENT
BEGIN:VEVENT
DTSTART;TZID=Europe/Paris:20290131T083000
DTEND;TZID=Europe/Paris:20290131T103000
DTSTAMP:20260423T171548
CREATED:20260316T135255Z
LAST-MODIFIED:20260326T083928Z
UID:10000406-1864542600-1864549800@parkinsonvrmove.ch
SUMMARY:ParkinsonVRMove
DESCRIPTION:Espace de quartier Pâquis
URL:https://parkinsonvrmove.ch/event/parkinsonvrmove/2029-01-31/
LOCATION:Espace de Quartier Pâquis\, rue Jean-Charles-Amat 6\, Geneve\, 1200\, Switzerland
CATEGORIES:VR
ATTACH;FMTTYPE=image/png:https://parkinsonvrmove.ch/wp-content/uploads/2026/03/cropped-cropped-250713-Favicon-96x96-1-1.png
END:VEVENT
END:VCALENDAR